BEGIN:VCALENDAR
VERSION:2.0
PRODID:-//OmniMagnetCalendar//EN
BEGIN:VEVENT
DTSTAMP:20190625T195740Z
STATUS:CONFIRMED
UID:hcperu.clubs.harvard.edu157
DTSTART:20211124T023210Z
DTEND:20211124T023232Z
LOCATION:Lima, Peru,
SUMMARY:2021 Harvard University Lifetime Achievement Award - Peru
DESCRIPTION:To be awarded to Richard Webb, FAS, PhD 1974, Economics
BEGIN:VALARM
TRIGGER:-PT15M
ACTION:DISPLAY
END:VALARM
TRANSP:OPAQUE
END:VEVENT
END:VCALENDAR
