BEGIN:VCALENDAR
VERSION:2.0
PRODID:-//OmniMagnetCalendar//EN
BEGIN:VEVENT
DTSTAMP:20190625T195740Z
STATUS:CONFIRMED
UID:hcperu.clubs.harvard.edu161
DTSTART:20220511T233000Z
DTEND:20220512T013000Z
LOCATION:Touring y Automóvil Club del Perú  , Av. Trinidad Morán, 698, Lince, Lima, Lima , 15046, PERU,
SUMMARY:ASAMBLEA GENERAL ORDINARIA DEL HARVARD CLUB OF PERU - 2022
DESCRIPTION:FECHA:  11 de Mayo del 2022 LUGAR:  Touring y Automóvil Club del Perú
BEGIN:VALARM
TRIGGER:-PT15M
ACTION:DISPLAY
END:VALARM
TRANSP:OPAQUE
END:VEVENT
END:VCALENDAR
